BEGIN:VCALENDAR
VERSION:2.0
PRODID:-//Wendy Battino - ECPv6.15.13//NONSGML v1.0//EN
CALSCALE:GREGORIAN
METHOD:PUBLISH
X-WR-CALNAME:Wendy Battino
X-ORIGINAL-URL:https://wendybattino.com
X-WR-CALDESC:Events for Wendy Battino
REFRESH-INTERVAL;VALUE=DURATION:PT1H
X-Robots-Tag:noindex
X-PUBLISHED-TTL:PT1H
BEGIN:VTIMEZONE
TZID:America/Anchorage
BEGIN:DAYLIGHT
TZOFFSETFROM:-0900
TZOFFSETTO:-0800
TZNAME:AKDT
DTSTART:20180311T110000
END:DAYLIGHT
BEGIN:STANDARD
TZOFFSETFROM:-0800
TZOFFSETTO:-0900
TZNAME:AKST
DTSTART:20181104T100000
END:STANDARD
BEGIN:DAYLIGHT
TZOFFSETFROM:-0900
TZOFFSETTO:-0800
TZNAME:AKDT
DTSTART:20190310T110000
END:DAYLIGHT
BEGIN:STANDARD
TZOFFSETFROM:-0800
TZOFFSETTO:-0900
TZNAME:AKST
DTSTART:20191103T100000
END:STANDARD
BEGIN:DAYLIGHT
TZOFFSETFROM:-0900
TZOFFSETTO:-0800
TZNAME:AKDT
DTSTART:20200308T110000
END:DAYLIGHT
BEGIN:STANDARD
TZOFFSETFROM:-0800
TZOFFSETTO:-0900
TZNAME:AKST
DTSTART:20201101T100000
END:STANDARD
END:VTIMEZONE
BEGIN:VEVENT
DTSTART;VALUE=DATE:20191201
DTEND;VALUE=DATE:20200101
DTSTAMP:20260423T075135
CREATED:20200321T215918Z
LAST-MODIFIED:20200109T224210Z
UID:4193-1575158400-1577836799@wendybattino.com
SUMMARY:Create Your Adventure - Personalized Retreats
DESCRIPTION:You get to create the adventure of your dreams! I help you design your personalized Alaskan experience with coaching that works for you.\nYou are craving more than a tourist experience. Determine which fabulous season you want to travel Alaska and check out the menu of options for way cool stuff we can do. Choose an area you would like more support and encouragement in your life for creating what you want and I will support you to harness your powers for what you want. -Talkeetna\, Alaska
URL:https://wendybattino.com/adventure-coaching/personalized-adventures/
ATTACH;FMTTYPE=image/jpeg:https://wendybattino.com/wp-content/uploads/2018/10/Personalized-Top-Photo.jpg
END:VEVENT
BEGIN:VEVENT
DTSTART;VALUE=DATE:20191101
DTEND;VALUE=DATE:20191201
DTSTAMP:20260423T075135
CREATED:20181121T225904Z
LAST-MODIFIED:20181126T210627Z
UID:4192-1572566400-1575158399@wendybattino.com
SUMMARY:Create Your Adventure - Personalized Retreats
DESCRIPTION:You get to create the adventure of your dreams! I help you design your personalized Alaskan experience with coaching that works for you.\nYou are craving more than a tourist experience. Determine which fabulous season you want to travel Alaska and check out the menu of options for way cool stuff we can do. Choose an area you would like more support and encouragement in your life for creating what you want and I will support you to harness your powers for what you want. -Talkeetna\, Alaska
URL:https://wendybattino.com/adventure-coaching/personalized-adventures/
ATTACH;FMTTYPE=image/jpeg:https://wendybattino.com/wp-content/uploads/2018/10/Personalized-Top-Photo.jpg
END:VEVENT
BEGIN:VEVENT
DTSTART;VALUE=DATE:20191001
DTEND;VALUE=DATE:20191101
DTSTAMP:20260423T075135
CREATED:20181121T225848Z
LAST-MODIFIED:20181126T210623Z
UID:4191-1569888000-1572566399@wendybattino.com
SUMMARY:Create Your Adventure - Personalized Retreats
DESCRIPTION:You get to create the adventure of your dreams! I help you design your personalized Alaskan experience with coaching that works for you.\nYou are craving more than a tourist experience. Determine which fabulous season you want to travel Alaska and check out the menu of options for way cool stuff we can do. Choose an area you would like more support and encouragement in your life for creating what you want and I will support you to harness your powers for what you want. -Talkeetna\, Alaska
URL:https://wendybattino.com/adventure-coaching/personalized-adventures/
ATTACH;FMTTYPE=image/jpeg:https://wendybattino.com/wp-content/uploads/2018/10/Personalized-Top-Photo.jpg
END:VEVENT
BEGIN:VEVENT
DTSTART;VALUE=DATE:20190901
DTEND;VALUE=DATE:20191001
DTSTAMP:20260423T075135
CREATED:20181121T225835Z
LAST-MODIFIED:20181126T210619Z
UID:4190-1567296000-1569887999@wendybattino.com
SUMMARY:Create Your Adventure - Personalized Retreats
DESCRIPTION:You get to create the adventure of your dreams! I help you design your personalized Alaskan experience with coaching that works for you.\nYou are craving more than a tourist experience. Determine which fabulous season you want to travel Alaska and check out the menu of options for way cool stuff we can do. Choose an area you would like more support and encouragement in your life for creating what you want and I will support you to harness your powers for what you want. -Talkeetna\, Alaska
URL:https://wendybattino.com/adventure-coaching/personalized-adventures/
ATTACH;FMTTYPE=image/jpeg:https://wendybattino.com/wp-content/uploads/2018/10/Personalized-Top-Photo.jpg
END:VEVENT
BEGIN:VEVENT
DTSTART;VALUE=DATE:20190801
DTEND;VALUE=DATE:20190901
DTSTAMP:20260423T075135
CREATED:20181121T225816Z
LAST-MODIFIED:20181126T210616Z
UID:4189-1564617600-1567295999@wendybattino.com
SUMMARY:Create Your Adventure - Personalized Retreats
DESCRIPTION:You get to create the adventure of your dreams! I help you design your personalized Alaskan experience with coaching that works for you.\nYou are craving more than a tourist experience. Determine which fabulous season you want to travel Alaska and check out the menu of options for way cool stuff we can do. Choose an area you would like more support and encouragement in your life for creating what you want and I will support you to harness your powers for what you want. -Talkeetna\, Alaska
URL:https://wendybattino.com/adventure-coaching/personalized-adventures/
ATTACH;FMTTYPE=image/jpeg:https://wendybattino.com/wp-content/uploads/2018/10/Personalized-Top-Photo.jpg
END:VEVENT
BEGIN:VEVENT
DTSTART;VALUE=DATE:20190501
DTEND;VALUE=DATE:20190601
DTSTAMP:20260423T075135
CREATED:20181121T225738Z
LAST-MODIFIED:20181126T210601Z
UID:4186-1556668800-1559347199@wendybattino.com
SUMMARY:Create Your Adventure - Personalized Retreats
DESCRIPTION:You get to create the adventure of your dreams! I help you design your personalized Alaskan experience with coaching that works for you.\nYou are craving more than a tourist experience. Determine which fabulous season you want to travel Alaska and check out the menu of options for way cool stuff we can do. Choose an area you would like more support and encouragement in your life for creating what you want and I will support you to harness your powers for what you want. -Talkeetna\, Alaska
URL:https://wendybattino.com/adventure-coaching/personalized-adventures/
ATTACH;FMTTYPE=image/jpeg:https://wendybattino.com/wp-content/uploads/2018/10/Personalized-Top-Photo.jpg
END:VEVENT
BEGIN:VEVENT
DTSTART;VALUE=DATE:20190401
DTEND;VALUE=DATE:20190501
DTSTAMP:20260423T075135
CREATED:20181121T225726Z
LAST-MODIFIED:20181126T210555Z
UID:4185-1554076800-1556668799@wendybattino.com
SUMMARY:Create Your Adventure - Personalized Retreats
DESCRIPTION:You get to create the adventure of your dreams! I help you design your personalized Alaskan experience with coaching that works for you.\nYou are craving more than a tourist experience. Determine which fabulous season you want to travel Alaska and check out the menu of options for way cool stuff we can do. Choose an area you would like more support and encouragement in your life for creating what you want and I will support you to harness your powers for what you want. -Talkeetna\, Alaska
URL:https://wendybattino.com/adventure-coaching/personalized-adventures/
ATTACH;FMTTYPE=image/jpeg:https://wendybattino.com/wp-content/uploads/2018/10/Personalized-Top-Photo.jpg
END:VEVENT
BEGIN:VEVENT
DTSTART;VALUE=DATE:20190324
DTEND;VALUE=DATE:20190330
DTSTAMP:20260423T075135
CREATED:20181121T221033Z
LAST-MODIFIED:20181123T233007Z
UID:4176-1553385600-1553903999@wendybattino.com
SUMMARY:Find Your Frontier Alaska Retreat
DESCRIPTION:Are you craving more? Explore your personal frontiers in a winter wonderland splashed with northern lights! Learn to communicate with animals and nature\, and how to mush a team of sled dogs.\nNo experience necessary. Alaska in winter is as real as it gets\, my favorite time of year. Let me show you my sacred spots and a transformational experience to light your life. -Talkeetna\, Alaska
URL:https://wendybattino.com/adventure-coaching/find-your-frontier-retreat/
CATEGORIES:Featured
ATTACH;FMTTYPE=image/jpeg:https://wendybattino.com/wp-content/uploads/2018/11/Find-Your-Frontier-Alaska-Retreat.jpg
END:VEVENT
BEGIN:VEVENT
DTSTART;VALUE=DATE:20190301
DTEND;VALUE=DATE:20190401
DTSTAMP:20260423T075135
CREATED:20230501T215712Z
LAST-MODIFIED:20230505T200404Z
UID:4184-1551398400-1554076799@wendybattino.com
SUMMARY:Create Your Adventure - Personalized Retreats
DESCRIPTION:You get to create the adventure of your dreams! I help you design your personalized Alaskan experience with coaching that works for you.\nYou are craving more than a tourist experience. Determine which fabulous season you want to travel Alaska and check out the menu of options for way cool stuff we can do. Choose an area you would like more support and encouragement in your life for creating what you want and I will support you to harness your powers for what you want. -Talkeetna\, Alaska
URL:https://wendybattino.com/adventure-coaching/personalized-adventures/
ATTACH;FMTTYPE=image/jpeg:https://wendybattino.com/wp-content/uploads/2018/10/Personalized-Top-Photo.jpg
END:VEVENT
BEGIN:VEVENT
DTSTART;VALUE=DATE:20190201
DTEND;VALUE=DATE:20190301
DTSTAMP:20260423T075135
CREATED:20181121T225659Z
LAST-MODIFIED:20181126T210546Z
UID:4183-1548979200-1551398399@wendybattino.com
SUMMARY:Create Your Adventure - Personalized Retreats
DESCRIPTION:You get to create the adventure of your dreams! I help you design your personalized Alaskan experience with coaching that works for you.\nYou are craving more than a tourist experience. Determine which fabulous season you want to travel Alaska and check out the menu of options for way cool stuff we can do. Choose an area you would like more support and encouragement in your life for creating what you want and I will support you to harness your powers for what you want. -Talkeetna\, Alaska
URL:https://wendybattino.com/adventure-coaching/personalized-adventures/
ATTACH;FMTTYPE=image/jpeg:https://wendybattino.com/wp-content/uploads/2018/10/Personalized-Top-Photo.jpg
END:VEVENT
BEGIN:VEVENT
DTSTART;VALUE=DATE:20190124
DTEND;VALUE=DATE:20190128
DTSTAMP:20260423T075135
CREATED:20181121T205102Z
LAST-MODIFIED:20181126T210439Z
UID:4170-1548288000-1548633599@wendybattino.com
SUMMARY:Cambria Adventure
DESCRIPTION:Deepen your connections and learn animal communication tools on the beautiful California Central Coast this January!\nDo you want to deepen your connection to your animal friends?\nWant to play with tools to communicate with animals and the natural world?\nWould you like to know how to tap into your inner strength\, at any time?\nThis adventure is for intuitive types who want to build community in our skills communicating with all beings.
URL:https://wendybattino.com/adventure-coaching/cambria-adventure/
CATEGORIES:Featured
ATTACH;FMTTYPE=image/jpeg:https://wendybattino.com/wp-content/uploads/2018/10/Cambria-Retreat-1.jpg
END:VEVENT
BEGIN:VEVENT
DTSTART;VALUE=DATE:20190101
DTEND;VALUE=DATE:20190201
DTSTAMP:20260423T075135
CREATED:20181121T224728Z
LAST-MODIFIED:20241116T052925Z
UID:4179-1546300800-1548979199@wendybattino.com
SUMMARY:Create Your Adventure - Personalized Retreats
DESCRIPTION:You get to create the adventure of your dreams! I help you design your personalized Alaskan experience with coaching that works for you.\nYou are craving more than a tourist experience. Determine which fabulous season you want to travel Alaska and check out the menu of options for way cool stuff we can do. Choose an area you would like more support and encouragement in your life for creating what you want and I will support you to harness your powers for what you want. -Talkeetna\, Alaska
URL:https://wendybattino.com/adventure-coaching/personalized-adventures/
CATEGORIES:Featured
ATTACH;FMTTYPE=image/jpeg:https://wendybattino.com/wp-content/uploads/2024/11/466743960_10236279954321623_8474006559355279496_n.jpg
END:VEVENT
END:VCALENDAR