BEGIN:VCALENDAR
VERSION:2.0
PRODID:-//Wendy Battino - ECPv6.15.13//NONSGML v1.0//EN
CALSCALE:GREGORIAN
METHOD:PUBLISH
X-ORIGINAL-URL:https://wendybattino.com
X-WR-CALDESC:Events for Wendy Battino
REFRESH-INTERVAL;VALUE=DURATION:PT1H
X-Robots-Tag:noindex
X-PUBLISHED-TTL:PT1H
BEGIN:VTIMEZONE
TZID:America/Anchorage
BEGIN:DAYLIGHT
TZOFFSETFROM:-0900
TZOFFSETTO:-0800
TZNAME:AKDT
DTSTART:20180311T110000
END:DAYLIGHT
BEGIN:STANDARD
TZOFFSETFROM:-0800
TZOFFSETTO:-0900
TZNAME:AKST
DTSTART:20181104T100000
END:STANDARD
BEGIN:DAYLIGHT
TZOFFSETFROM:-0900
TZOFFSETTO:-0800
TZNAME:AKDT
DTSTART:20190310T110000
END:DAYLIGHT
BEGIN:STANDARD
TZOFFSETFROM:-0800
TZOFFSETTO:-0900
TZNAME:AKST
DTSTART:20191103T100000
END:STANDARD
BEGIN:DAYLIGHT
TZOFFSETFROM:-0900
TZOFFSETTO:-0800
TZNAME:AKDT
DTSTART:20200308T110000
END:DAYLIGHT
BEGIN:STANDARD
TZOFFSETFROM:-0800
TZOFFSETTO:-0900
TZNAME:AKST
DTSTART:20201101T100000
END:STANDARD
BEGIN:DAYLIGHT
TZOFFSETFROM:-0900
TZOFFSETTO:-0800
TZNAME:AKDT
DTSTART:20210314T110000
END:DAYLIGHT
BEGIN:STANDARD
TZOFFSETFROM:-0800
TZOFFSETTO:-0900
TZNAME:AKST
DTSTART:20211107T100000
END:STANDARD
BEGIN:DAYLIGHT
TZOFFSETFROM:-0900
TZOFFSETTO:-0800
TZNAME:AKDT
DTSTART:20220313T110000
END:DAYLIGHT
BEGIN:STANDARD
TZOFFSETFROM:-0800
TZOFFSETTO:-0900
TZNAME:AKST
DTSTART:20221106T100000
END:STANDARD
BEGIN:DAYLIGHT
TZOFFSETFROM:-0900
TZOFFSETTO:-0800
TZNAME:AKDT
DTSTART:20230312T110000
END:DAYLIGHT
BEGIN:STANDARD
TZOFFSETFROM:-0800
TZOFFSETTO:-0900
TZNAME:AKST
DTSTART:20231105T100000
END:STANDARD
BEGIN:DAYLIGHT
TZOFFSETFROM:-0900
TZOFFSETTO:-0800
TZNAME:AKDT
DTSTART:20240310T110000
END:DAYLIGHT
BEGIN:STANDARD
TZOFFSETFROM:-0800
TZOFFSETTO:-0900
TZNAME:AKST
DTSTART:20241103T100000
END:STANDARD
BEGIN:DAYLIGHT
TZOFFSETFROM:-0900
TZOFFSETTO:-0800
TZNAME:AKDT
DTSTART:20250309T110000
END:DAYLIGHT
BEGIN:STANDARD
TZOFFSETFROM:-0800
TZOFFSETTO:-0900
TZNAME:AKST
DTSTART:20251102T100000
END:STANDARD
BEGIN:DAYLIGHT
TZOFFSETFROM:-0900
TZOFFSETTO:-0800
TZNAME:AKDT
DTSTART:20260308T110000
END:DAYLIGHT
BEGIN:STANDARD
TZOFFSETFROM:-0800
TZOFFSETTO:-0900
TZNAME:AKST
DTSTART:20261101T100000
END:STANDARD
END:VTIMEZONE
BEGIN:VEVENT
DTSTART;VALUE=DATE:20241209
DTEND;VALUE=DATE:20250117
DTSTAMP:20260423T091346
CREATED:20241209T194701Z
LAST-MODIFIED:20241209T202137Z
UID:4306-1733702400-1737071999@wendybattino.com
SUMMARY:Wisdom Walk
DESCRIPTION:Get support in whatever area you need with nature-based coaching while we stroll  the beautiful beach and practice simple tools for connecting to nature and aligning to your strengths.  If you would like\, we can walk with my sled dogs too!
URL:https://wendybattino.com/event/talkeetna-tours/
CATEGORIES:Featured
ATTACH;FMTTYPE=image/jpeg:https://wendybattino.com/wp-content/uploads/2018/10/Wendy-Battino-Welcome.jpg
END:VEVENT
BEGIN:VEVENT
DTSTART;TZID=America/Anchorage:20241115T100000
DTEND;TZID=America/Anchorage:20241121T170000
DTSTAMP:20260423T091346
CREATED:20241116T045614Z
LAST-MODIFIED:20241116T072339Z
UID:6387-1731664800-1732208400@wendybattino.com
SUMMARY:Nurture Your Tranquility
DESCRIPTION:  \n\nWinter Body and Mind Restoration\n\n \n  \n One hour nourishing massage \nwith Michele to balance your body\n\n\nFollowed by a \n\n  \n\nOne hour coaching session with Wendy to tap into your inner wisdom \n\n  \n\n\nAvailable through November 21\, 2024\nCall/Text to schedule your time\nWendy at 907-355-4909  OR  Michele at 907-764-4055\n  \n\n\n \n\n\n \nPowered by
URL:https://wendybattino.com/event/nurture-your-tranquility/
CATEGORIES:Featured
ATTACH;FMTTYPE=image/jpeg:https://wendybattino.com/wp-content/uploads/2024/11/466743960_10236279954321623_8474006559355279496_n.jpg
END:VEVENT
BEGIN:VEVENT
DTSTART;TZID=America/Anchorage:20230523T090000
DTEND;TZID=America/Anchorage:20230523T104500
DTSTAMP:20260423T091346
CREATED:20230502T063854Z
LAST-MODIFIED:20230505T204620Z
UID:4566-1684832400-1684838700@wendybattino.com
SUMMARY:Wild Awareness
DESCRIPTION:Join our virtual workshop to reflect on the past three years\, connect to your powerful inner nature\, and set a supportive vision for what you want to create going forward.
URL:https://wendybattino.com/event/wild-intention/
CATEGORIES:Featured
ATTACH;FMTTYPE=image/jpeg:https://wendybattino.com/wp-content/uploads/2023/05/IMG_1561-1.jpeg
END:VEVENT
BEGIN:VEVENT
DTSTART;VALUE=DATE:20230501
DTEND;VALUE=DATE:20240502
DTSTAMP:20260423T091346
CREATED:20230501T215805Z
LAST-MODIFIED:20230505T204339Z
UID:4188-1682899200-1714607999@wendybattino.com
SUMMARY:Create Your Adventure
DESCRIPTION:Create the adventure of your dreams!\nI help you design your personalized Alaskan Retreat with coaching that works for you.\n 
URL:https://wendybattino.com/adventure-coaching/personalized-adventures/
CATEGORIES:Featured
ATTACH;FMTTYPE=image/jpeg:https://wendybattino.com/wp-content/uploads/2020/01/IMAG0510.jpg
END:VEVENT
BEGIN:VEVENT
DTSTART;VALUE=DATE:20200314
DTEND;VALUE=DATE:20200321
DTSTAMP:20260423T091346
CREATED:20181121T215458Z
LAST-MODIFIED:20190625T003828Z
UID:4173-1584144000-1584748799@wendybattino.com
SUMMARY:Harness Your Power Dog Mushing Retreat
DESCRIPTION:Calling all adventurous spirits! Learn to mush and forge bonds with beautiful Alaskan Huskies. We will mush across spectacular Alaska this March. Transformational fun.\nAlaska is famed for its wildly romantic landscapes. Picture giant mountains\, endless valleys\, powerful frozen rivers\, sparkling meadows of snow\, enchanting forests of birch and spruce – and you and your dog team traveling through it all with the biggest smile on your faces! -Susitna Valley\, Alaska
URL:https://wendybattino.com/adventure-coaching/harness-your-power-dog-mushing-retreat/
CATEGORIES:Featured
ATTACH;FMTTYPE=image/jpeg:https://wendybattino.com/wp-content/uploads/2018/10/Harness-Your-Power-featured.jpg
END:VEVENT
BEGIN:VEVENT
DTSTART;VALUE=DATE:20190324
DTEND;VALUE=DATE:20190330
DTSTAMP:20260423T091346
CREATED:20181121T221033Z
LAST-MODIFIED:20181123T233007Z
UID:4176-1553385600-1553903999@wendybattino.com
SUMMARY:Find Your Frontier Alaska Retreat
DESCRIPTION:Are you craving more? Explore your personal frontiers in a winter wonderland splashed with northern lights! Learn to communicate with animals and nature\, and how to mush a team of sled dogs.\nNo experience necessary. Alaska in winter is as real as it gets\, my favorite time of year. Let me show you my sacred spots and a transformational experience to light your life. -Talkeetna\, Alaska
URL:https://wendybattino.com/adventure-coaching/find-your-frontier-retreat/
CATEGORIES:Featured
ATTACH;FMTTYPE=image/jpeg:https://wendybattino.com/wp-content/uploads/2018/11/Find-Your-Frontier-Alaska-Retreat.jpg
END:VEVENT
BEGIN:VEVENT
DTSTART;VALUE=DATE:20190124
DTEND;VALUE=DATE:20190128
DTSTAMP:20260423T091346
CREATED:20181121T205102Z
LAST-MODIFIED:20181126T210439Z
UID:4170-1548288000-1548633599@wendybattino.com
SUMMARY:Cambria Adventure
DESCRIPTION:Deepen your connections and learn animal communication tools on the beautiful California Central Coast this January!\nDo you want to deepen your connection to your animal friends?\nWant to play with tools to communicate with animals and the natural world?\nWould you like to know how to tap into your inner strength\, at any time?\nThis adventure is for intuitive types who want to build community in our skills communicating with all beings.
URL:https://wendybattino.com/adventure-coaching/cambria-adventure/
CATEGORIES:Featured
ATTACH;FMTTYPE=image/jpeg:https://wendybattino.com/wp-content/uploads/2018/10/Cambria-Retreat-1.jpg
END:VEVENT
BEGIN:VEVENT
DTSTART;VALUE=DATE:20190101
DTEND;VALUE=DATE:20190201
DTSTAMP:20260423T091346
CREATED:20181121T224728Z
LAST-MODIFIED:20241116T052925Z
UID:4179-1546300800-1548979199@wendybattino.com
SUMMARY:Create Your Adventure - Personalized Retreats
DESCRIPTION:You get to create the adventure of your dreams! I help you design your personalized Alaskan experience with coaching that works for you.\nYou are craving more than a tourist experience. Determine which fabulous season you want to travel Alaska and check out the menu of options for way cool stuff we can do. Choose an area you would like more support and encouragement in your life for creating what you want and I will support you to harness your powers for what you want. -Talkeetna\, Alaska
URL:https://wendybattino.com/adventure-coaching/personalized-adventures/
CATEGORIES:Featured
ATTACH;FMTTYPE=image/jpeg:https://wendybattino.com/wp-content/uploads/2024/11/466743960_10236279954321623_8474006559355279496_n.jpg
END:VEVENT
END:VCALENDAR